BEGIN:VCALENDAR
VERSION:2.0
PRODID:-//ChamberMaster//Event Calendar 2.0//EN
METHOD:PUBLISH
X-PUBLISHED-TTL:P3D
REFRESH-INTERVAL:P3D
CALSCALE:GREGORIAN
BEGIN:VEVENT
DTSTART;VALUE=DATE:20200521
DTEND;VALUE=DATE:20200522
TRANSP:TRANSPARENT
X-MICROSOFT-CDO-ALLDAYEVENT:TRUE
SUMMARY:UIW- Virtual Info Session
DESCRIPTION:You're invited to attend an admissions event for busy adults hosted by the UIW School of Professional Studies.  Learn about educational benefits and majors offered for students interested in pursuing a bachelor's\, master's or doctoral degree.\n\n \n\nVirtual Information Sessions\n\nDate: Thursday\, May 21\, 2020\n\nTime: Noon and 6p.m. (1 hour each)\n\n \n\n	Admissions presentation\n	Question and answer session\n	Receive application guidance\n	Chat with representatives from various departments\n\n \n\nRSVP Today!\n\nhttps://sps.uiw.edu/admissions/admissions-events/
X-ALT-DESC;FMTTYPE=text/html:You&rsquo\;re invited to attend an admissions event for busy adults hosted by the UIW School of Professional Studies.&nbsp\; Learn about educational benefits and majors offered for students interested in pursuing a bachelor&rsquo\;s\, master&rsquo\;s or doctoral degree.<br />\n&nbsp\;<br />\nVirtual Information Sessions<br />\nDate: Thursday\, May 21\, 2020<br />\nTime: Noon and 6p.m. (1 hour each)<br />\n&nbsp\;\n<ul>\n	<li style="line-height:15.5467px\;font-size:11pt\;font-family:Calibri\, sans-serif\;">Admissions presentation</li>\n	<li style="line-height:15.5467px\;font-size:11pt\;font-family:Calibri\, sans-serif\;">Question and answer session</li>\n	<li style="line-height:15.5467px\;font-size:11pt\;font-family:Calibri\, sans-serif\;">Receive application guidance</li>\n	<li style="margin:0in 0in 8pt\;line-height:15.5467px\;font-size:11pt\;font-family:Calibri\, sans-serif\;">Chat with representatives from various departments</li>\n</ul>\n&nbsp\;<br />\n<strong>RSVP Today!</strong><br />\n<a data-saferedirecturl="https://www.google.com/url?q=https://sps.uiw.edu/admissions/admissions-events/&amp\;source=gmail&amp\;ust=1588703749256000&amp\;usg=AFQjCNG-rH6SuqSWOHwdB11Z_AXPJKSyfQ" href="https://sps.uiw.edu/admissions/admissions-events/" style="color:rgb(17\, 85\, 204)\;" target="_blank">https://sps.uiw.edu/<wbr />admissions/admissions-events/</a>
LOCATION:
UID:e.595.25297
SEQUENCE:3
DTSTAMP:20260425T024516Z
URL:https://business.thechamber.info/events/details/uiw-virtual-info-session-25297
END:VEVENT

END:VCALENDAR
