BEGIN:VCALENDAR
VERSION:2.0
PRODID:-//ChamberMaster//Event Calendar 2.0//EN
METHOD:PUBLISH
X-PUBLISHED-TTL:P3D
REFRESH-INTERVAL:P3D
CALSCALE:GREGORIAN
BEGIN:VEVENT
DTSTART:20201124T010000Z
DTEND:20201124T021500Z
X-MICROSOFT-CDO-ALLDAYEVENT:FALSE
SUMMARY:The Chamber Toastmasters
DESCRIPTION:What is Toastmasters?\n\n\n\nHave you ever been afraid to speak in front of a crowd?\n\n\n\nToastmasters International is a world leader in communication and leadership development.  Spanning the globe\, our membership is 280\,000 strong.  These members improve their speaking and leadership skills by attending one of the 13\,500 clubs in 116 countries that make up our global network of meeting locations.\n\n\n\nA Toastmasters meeting is a learn-by-doing workshop in which participants hone their speaking and leadership skills in a no-pressure atmosphere.\n\n\n\nThere is no instructor in a Toastmasters meeting.  Instead\, members evaluate one another's presentations.  This feedback process is a key part of the program's success.\n\n\n\nMeeting participants also give impromptu talks on assigned topics\, conduct meetings and develop skills related to timekeeping\, grammar and parliamentary procedure.\n\n\n\nWho are we?\n\nSchertz Chamber of Commerce Toastmasters Club is a young\, up and coming Toastmasters Club that is open to the public (that means you!).\n\n\n\nWe work with one another in the club\, as well as with other local clubs that we have relationships with to ensure that all Toastmasters have the ability to get the most out of it they possibly can.  Toastmasters is an organization where what you get out of it depends directly on what you put into it.  The more effort you put in\, the more learning and experience you will receive!
X-ALT-DESC;FMTTYPE=text/html:<div class="paragraph" style="margin: 0px\; padding: 0.5em 0px\; line-height: 23.4px\; color: rgb(70\, 70\, 70)\;"><font size="3"><strong><u>What is Toastmasters?</u></strong></font><br />\n<br />\nHave you ever been afraid to speak in front of a crowd?<br />\n<br />\nToastmasters International is a world leader in communication and leadership development.&nbsp\; Spanning the globe\, our membership is 280\,000 strong.&nbsp\; These members improve their speaking and leadership skills by attending one of the 13\,500 clubs in 116 countries that make up our global network of meeting locations.<br />\n<br />\n<strong><font size="4">A Toastmasters meeting is a learn-by-doing workshop in which participants hone their speaking and leadership skills in a no-pressure atmosphere.</font></strong><br />\n<br />\nThere is no instructor in a Toastmasters meeting.&nbsp\; Instead\, members evaluate one another&rsquo\;s presentations.&nbsp\; This feedback process is a key part of the program&rsquo\;s success.<br />\n<br />\nMeeting participants also give impromptu talks on assigned topics\, conduct meetings and develop skills related to timekeeping\, grammar and parliamentary procedure.<br />\n<br />\n<strong><u><font size="3">Who are we?</font></u></strong><br />\nSchertz Chamber of Commerce Toastmasters Club is a young\, up and coming Toastmasters Club that is open to the public (that means you!).<br />\n<br />\nWe work with one another in the club\, as well as with other local clubs that we have relationships with to ensure that all Toastmasters have the ability to get the most out of it they possibly can.&nbsp\;<strong><font size="4">&nbsp\;Toastmasters is an organization where what you get out of it depends directly on what you put into it.</font></strong>&nbsp\; The more effort you put in\, the more learning and experience you will receive!</div>\n\n<hr style="width: 960px\; clear: both\; visibility: hidden\;" />\n<div>\n<div style="color: rgb(0\, 0\, 0)\; font-family: &quot\;Open Sans&quot\;\, Helvetica\, sans-serif\; font-size: 16px\; height: 20px\; overflow: hidden\; width: 960px\;">&nbsp\;</div>\n\n<hr class="styled-hr" style="background-color: rgba(0\, 0\, 0\, 0.13)\; border-width: 0pt\; border-style: none\; border-top-color: initial\; color: rgba(0\, 0\, 0\, 0.13)\; height: 1px\; margin: 0px auto\; text-align: center\; font-family: &quot\;Open Sans&quot\;\, Helvetica\, sans-serif\; font-size: 16px\; width: 960px\;" /></div>\n
LOCATION:ON ZOOM
UID:e.595.13111
SEQUENCE:3
DTSTAMP:20260425T125843Z
URL:https://business.thechamber.info/events/details/toastmasters-11-23-2020-13111
END:VEVENT

END:VCALENDAR
