BEGIN:VCALENDAR
VERSION:2.0
PRODID:-//ChamberMaster//Event Calendar 2.0//EN
METHOD:PUBLISH
X-PUBLISHED-TTL:P3D
REFRESH-INTERVAL:P3D
CALSCALE:GREGORIAN
BEGIN:VEVENT
DTSTART:20200508T180000Z
DTEND:20200508T190000Z
X-MICROSOFT-CDO-ALLDAYEVENT:FALSE
SUMMARY:Texas A&M Chevron Engineering Academy Information Session
DESCRIPTION:Get a head start on an engineering degree from Texas A&M through a new partnership with the Alamo Colleges District-Northeast Lakeview College.
X-ALT-DESC;FMTTYPE=text/html:Get a head start on an engineering degree from Texas A&amp\;M through a new partnership with the Alamo Colleges District-Northeast Lakeview College.
LOCATION:This is an online event.
UID:e.595.25298
SEQUENCE:3
DTSTAMP:20260425T162847Z
URL:https://business.thechamber.info/events/details/texas-a-m-chevron-engineering-academy-information-session-25298
END:VEVENT

END:VCALENDAR
