BEGIN:VCALENDAR
VERSION:2.0
PRODID:-//ChamberMaster//Event Calendar 2.0//EN
METHOD:PUBLISH
X-PUBLISHED-TTL:P3D
REFRESH-INTERVAL:P3D
CALSCALE:GREGORIAN
BEGIN:VEVENT
DTSTART:20200708T000000Z
DTEND:20200708T030000Z
X-MICROSOFT-CDO-ALLDAYEVENT:FALSE
SUMMARY:Tactical Laser Tag
DESCRIPTION:Join us as Stryker Tactical Laser Tag brings out the latest technology to area parks for a live gaming experience. Traditional laser tag missions\, zombie apocalypse challenges\, and more! Suitable for tweens 10 and up.\n\nSeason\n\nTuesdays July 7   28\n\n8:00   10:00 p.m.\n\nPickrell Park Aero Pavilion\, 102 Aero Street\, Schertz\, TX 78154\n\nREGISTRATION\n\n$12.00 per person\; each session limited to 36 participants\n\nRegistration opens Tuesday\, June 16
X-ALT-DESC;FMTTYPE=text/html:<p>Join us as Stryker Tactical Laser Tag brings out the latest technology to area parks for a live gaming experience. Traditional laser tag missions\, zombie apocalypse challenges\, and more! Suitable for tweens 10 and up.</p>\n\n<p><strong>Season</strong><br />\nTuesdays July 7 &ndash\; 28<br />\n8:00 &ndash\; 10:00 p.m.<br />\nPickrell Park Aero Pavilion\, 102 Aero Street\, Schertz\, TX 78154</p>\n\n<h3>REGISTRATION</h3>\n\n<p>$12.00 per person\; each session limited to 36 participants</p>\n\n<p>Registration opens Tuesday\, June 16</p>\n
LOCATION:Pickrell Park
UID:e.595.25315
SEQUENCE:3
DTSTAMP:20260424T225241Z
URL:https://business.thechamber.info/events/details/tactical-laser-tag-25315
END:VEVENT

END:VCALENDAR
