BEGIN:VCALENDAR
VERSION:2.0
PRODID:-//ChamberMaster//Event Calendar 2.0//EN
METHOD:PUBLISH
X-PUBLISHED-TTL:P3D
REFRESH-INTERVAL:P3D
CALSCALE:GREGORIAN
BEGIN:VEVENT
DTSTART:20210813T123000Z
DTEND:20210813T140000Z
X-MICROSOFT-CDO-ALLDAYEVENT:FALSE
SUMMARY:Summer Smoothie Celebration
DESCRIPTION:Come join us as we end our summer with a great morning of networking with others! Enjoy delicious smoothies and breakfast munchies at Tropical Smoothie Cafe!
X-ALT-DESC;FMTTYPE=text/html:<span style="color: rgb(60\, 64\, 67)\; font-family: Roboto\, Arial\, sans-serif\; font-size: 14px\; letter-spacing: 0.2px\; white-space: pre-wrap\; background-color: rgb(255\, 255\, 255)\;">Come join us as we end our summer with a great morning of networking with others! Enjoy delicious smoothies and breakfast munchies at </span><b style="color: rgb(60\, 64\, 67)\; font-family: Roboto\, Arial\, sans-serif\; font-size: 14px\; letter-spacing: 0.2px\; white-space: pre-wrap\; background-color: rgb(255\, 255\, 255)\;"><i>Tropical Smoothie Cafe!</i></b>
LOCATION:17331 I-35 N Schertz\, TX
UID:e.595.35369
SEQUENCE:3
DTSTAMP:20260422T054316Z
URL:https://business.thechamber.info/events/details/summer-smoothie-celebration-35369
END:VEVENT

END:VCALENDAR
