BEGIN:VCALENDAR
VERSION:2.0
PRODID:-//ChamberMaster//Event Calendar 2.0//EN
METHOD:PUBLISH
X-PUBLISHED-TTL:P3D
REFRESH-INTERVAL:P3D
CALSCALE:GREGORIAN
BEGIN:VEVENT
DTSTART:20210328T003000Z
DTEND:20210328T030000Z
X-MICROSOFT-CDO-ALLDAYEVENT:FALSE
SUMMARY:Star Party
DESCRIPTION:Mark your calendars for our next Star Party on Saturday\, March 27 at 7:30 p.m. at Crescent Bend Nature Park. Social distance measures will be in place. Masks are required for ages 10 and older. Guests using telescopes provided by the Astronomical Society must wash/sanitize hands before use. \n\n\n\nStar Party Etiquette: Dim your vehicle lights when entering the park. Bring a flashlight with a red infrared "night-vision" setting or make your own by covering a regular flashlight with red cellophane and a rubber band. Dress for the weather and bring water and a camp chair if you'd like. Don't touch any equipment without asking the astronomer first. Avoid loud and boisterous activity\; the stars in the sky are the show for the night.
X-ALT-DESC;FMTTYPE=text/html:<span style="color:rgb(20\, 20\, 12)\; font-family:arial\; font-size:14.4px">Mark your calendars for our next Star Party on Saturday\, March 27 at 7:30 p.m. at Crescent Bend Nature Park</span><span style="color:rgb(29\, 33\, 41)\; font-family:system-ui\,-apple-system\,system-ui\,.sfnstext-regular\,sans-serif\; font-size:14px">. Social distance measures will be in place. Masks are required for ages 10 and older. Guests using telescopes provided by the Astronomical Society must wash/sanitize hands before use.&nbsp\;</span><br />\n<br />\n<span style="color:rgb(29\, 33\, 41)\; font-family:system-ui\,-apple-system\,system-ui\,.sfnstext-regular\,sans-serif\; font-size:14px">Star Party Etiquette: Dim your vehicle lights when entering the park. Bring a flashlight with a red infrared &ldquo\;night-vision&rdquo\; setting or make your own by covering a regular flashlight with red cellophane and a rubber band. Dress for the weather and bring water and a camp chair if you&rsquo\;d like. Don&rsquo\;t touch any equipment without asking the astronomer first. Avoid loud and boisterous activity\; the stars in the sky are the show for the night.</span>
LOCATION:Crescent Bend Nature Park
UID:e.595.35148
SEQUENCE:3
DTSTAMP:20260423T044232Z
URL:https://business.thechamber.info/events/details/star-party-35148
END:VEVENT

END:VCALENDAR
