BEGIN:VCALENDAR
VERSION:2.0
PRODID:-//ChamberMaster//Event Calendar 2.0//EN
METHOD:PUBLISH
X-PUBLISHED-TTL:P3D
REFRESH-INTERVAL:P3D
CALSCALE:GREGORIAN
BEGIN:VEVENT
DTSTART:20201103T005500Z
DTEND:20201103T020000Z
X-MICROSOFT-CDO-ALLDAYEVENT:FALSE
SUMMARY:R.I.P.P.E.D. S38 RETRO Launch
DESCRIPTION:R.I.P.P.E.D Season 38 Launch is here!\n\nWant to burn lots of calories and shred fat? This total body workout is for you. The music is pumping and the moves are masterfully designed for results. This is the hottest season and format around! For most fitness levels.\n\nCARDIO\, WEIGHTS\, FUN\, & DONE!\n\n\n\nDue to COVID-10 face cover must be worn in and put back on when not exercising. Sanitize hands before entering and before leaving.\n\n\n\n \n\n\nSign up @ www.devoirfitness.com 210.542.3445 #devoirfitness\n\nGet fit & inspired at DeVoir Fitness!
X-ALT-DESC;FMTTYPE=text/html:<div style="text-align:center">\n<div style="text-align:left"><strong><span style="font-size:14px"><span style="font-family:arial\,helvetica\,sans-serif"><span style="color:rgb(5\, 5\, 5)">R.I.P.P.E.D Season 38 Launch is here!</span><br />\n<span style="color:rgb(5\, 5\, 5)">Want to burn lots of calories and shred fat? This total body workout is for you. The music is pumping and the moves are masterfully designed for results. This is the hottest season and format around! For most fitness levels.</span><br />\n<span style="color:rgb(5\, 5\, 5)">CARDIO\, WEIGHTS\, FUN\, &amp\; DONE!</span><br />\n<br />\n<span style="color:#000000">Due to COVID-10 face cover must be worn in and put back&nbsp\;on when not exercising. Sanitize&nbsp\;hands before&nbsp\;entering and before leaving.</span></span></span></strong></div>\n</div>\n\n<div style="text-align:center">\n<div style="text-align:left">&nbsp\;</div>\n</div>\n\n<div><strong><span style="font-size:14px"><span style="font-family:arial\,helvetica\,sans-serif"><span style="color:#000000">Sign up @&nbsp\;</span><a href="https://l.facebook.com/l.php?u=http%3A%2F%2Fwww.devoirfitness.com%2F%3Ffbclid%3DIwAR1Gm4wvPQ81T6Xe5zu-gjEUHrh2XX1t9x-0xtZPMCgoQUkOCUT1-FN4gMg&amp\;h=AT2TLcW-i7rh0Jg_dn2rL8bRG0aedXiOPqLUcee7EmcXgphw6IbtKQRuBfsu0MvWkuVV_YuFx4IcbP8xkbj-_aa7jSCR5aoAd9ZgRB5p-jxixrrmTG0dRD4Ue12K6T7vb3RF2RycdMC9rzNZQAyg&amp\;__tn__=-UK*F" style="color:var(--blue-link)\;cursor:pointer\;outline:none\;border-style:initial\;touch-action:manipulation\;text-align:inherit\;box-sizing:border-box\;" target="_blank"><span style="color:#000000">www.devoirfitness.com</span></a><span style="color:#000000">&nbsp\;210.542.3445&nbsp\;</span><a href="https://www.facebook.com/hashtag/devoirfitness?__eep__=6&amp\;__tn__=*NK*F" style="color:var(--primary-text)\;cursor:pointer\;outline:none\;border-style:initial\;touch-action:manipulation\;text-align:inherit\;box-sizing:border-box\;"><span style="color:#000000">#devoirfitness</span></a><br />\n<span style="color:#000000">Get fit &amp\; inspired at DeVoir Fitness!</span></span></span></strong></div>\n
LOCATION:
UID:e.595.32406
SEQUENCE:3
DTSTAMP:20260424T064403Z
URL:https://business.thechamber.info/events/details/r-i-p-p-e-d-s38-retro-launch-32406
END:VEVENT

END:VCALENDAR
