BEGIN:VCALENDAR
VERSION:2.0
PRODID:-//ChamberMaster//Event Calendar 2.0//EN
METHOD:PUBLISH
X-PUBLISHED-TTL:P3D
REFRESH-INTERVAL:P3D
CALSCALE:GREGORIAN
BEGIN:VEVENT
DTSTART:20200912T150000Z
DTEND:20200912T160000Z
X-MICROSOFT-CDO-ALLDAYEVENT:FALSE
SUMMARY:Princess Readings
DESCRIPTION:In this FREE event\, the 2020-2021 Schertz Sweetheart Court will share their favorite book and craft. Readings will be presented via Zoom meetings at selected times and dates:\n\n \n\n'Princess Hair' read by Miss Schertz on Saturday\, September 12\n\n \n\n'My Rules for Being a Princess' read by Miss Jubilee on Saturday\, September 19\n\n \n\n'The Evil Princess vs. The Brave Knight' read by Miss Friendly City on Saturday\, September 26\n\n \n\n'Falling for Rapunzel' read by Miss Sunshine on Saturday\, October 3\n\n \n\nRegister on CivicRec: https://bit.ly/3gIVjWE
X-ALT-DESC;FMTTYPE=text/html:<div>In this FREE event\, the 2020-2021 Schertz Sweetheart Court will share their favorite book and craft. Readings will be presented via Zoom meetings at selected times and dates:<br />\n&nbsp\;</div>\n\n<div>&#39\;Princess Hair&#39\; read by Miss Schertz on Saturday\, September 12<br />\n&nbsp\;</div>\n\n<div>&#39\;My Rules for Being a Princess&#39\; read by Miss Jubilee on Saturday\, September 19<br />\n&nbsp\;</div>\n\n<div>&#39\;The Evil Princess vs. The Brave Knight&#39\; read by Miss Friendly City on Saturday\, September 26<br />\n&nbsp\;</div>\n\n<div>&#39\;Falling for Rapunzel&#39\; read by Miss Sunshine on Saturday\, October 3<br />\n&nbsp\;</div>\n\n<div>Register on CivicRec:&nbsp\;<a class="oajrlxb2 g5ia77u1 qu0x051f esr5mh6w e9989ue4 r7d6kgcz rq0escxv nhd2j8a9 nc684nl6 p7hjln8o kvgmc6g5 cxmmr5t8 oygrvhab hcukyx3x jb3vyjys rz4wbd8a qt6c0cv9 a8nywdso i1ao9s8h esuyzwwr f1sip0of lzcic4wl py34i1dx gpro0wi8" href="https://bit.ly/3gIVjWE?fbclid=IwAR33h9Yg6upVbsa8j1Ic8AddeDgwyEIL7v8oQXmtdqDUWHqllsXegC3nmYc" rel="nofollow noopener" style="color: var(--blue-link)\; cursor: pointer\; text-decoration-line: none\; outline: none\; list-style: none\; border-width: 0px\; border-style: initial\; border-color: initial\; padding: 0px\; margin: 0px\; touch-action: manipulation\; background-color: transparent\; text-align: inherit\; display: inline\; -webkit-tap-highlight-color: transparent\; box-sizing: border-box\; font-family: inherit\;" tabindex="0" target="_blank">https://bit.ly/3gIVjWE</a>&nbsp\;</div>\n
LOCATION:
UID:e.595.30752
SEQUENCE:3
DTSTAMP:20260425T024221Z
URL:https://business.thechamber.info/events/details/princess-readings-30752
END:VEVENT

END:VCALENDAR
