BEGIN:VCALENDAR
VERSION:2.0
PRODID:-//ChamberMaster//Event Calendar 2.0//EN
METHOD:PUBLISH
X-PUBLISHED-TTL:P3D
REFRESH-INTERVAL:P3D
CALSCALE:GREGORIAN
BEGIN:VEVENT
DTSTART:20210701T230000Z
DTEND:20210702T000000Z
X-MICROSOFT-CDO-ALLDAYEVENT:FALSE
SUMMARY:Popsicles in the Park
DESCRIPTION:Pop on over and celebrate Parks and Recreation Month with a free popsicle party every Thursday night in July from 6:00   7:00 p.m. Popsicle Parties will be hosted at various parks throughout the city\, courtesy of Schertz Parks and Recreation.\n\n \n\nJuly 1 at Ashley Park\n\nJuly 8 at Cypress Point\n\nJuly 15 at Heritage Oaks\n\nJuly 22 at Playscape\n\nJuly 29 at Pickrell Park Pool
X-ALT-DESC;FMTTYPE=text/html:<div>Pop on over and celebrate Parks and Recreation Month with a free popsicle party every Thursday night in July from 6:00 &ndash\; 7:00 p.m. Popsicle Parties will be hosted at various parks throughout the city\, courtesy of Schertz Parks and Recreation.<br />\n&nbsp\;</div>\n\n<div>July 1 at Ashley Park</div>\n\n<div>July 8 at Cypress Point</div>\n\n<div>July 15 at Heritage Oaks</div>\n\n<div>July 22 at Playscape</div>\n\n<div>July 29 at Pickrell Park Pool</div>\n
LOCATION:July 1 at Ashley Park July 8 at Cypress Point July 15 at Heritage Oaks July 22 at Playscape July 29 at Pickrell Park Pool
UID:e.595.35343
SEQUENCE:3
DTSTAMP:20260424T090923Z
URL:https://business.thechamber.info/events/details/popsicles-in-the-park-35343
END:VEVENT

END:VCALENDAR
