BEGIN:VCALENDAR
VERSION:2.0
PRODID:-//ChamberMaster//Event Calendar 2.0//EN
METHOD:PUBLISH
X-PUBLISHED-TTL:P3D
REFRESH-INTERVAL:P3D
CALSCALE:GREGORIAN
BEGIN:VEVENT
DTSTART;VALUE=DATE:20220108
DTEND;VALUE=DATE:20220109
TRANSP:TRANSPARENT
X-MICROSOFT-CDO-ALLDAYEVENT:TRUE
SUMMARY:Polar Bear Plunge
DESCRIPTION:The Schertz YMCA hosts an event in partnership with the City every January called the Polar Bear Plunge. The Polar Bear Plunge is an event that helps the YMCA raise funds for our Scholarship Program. Our Scholarship Program is an financial assistance\, to the extent possible\, available for those needing assistance in paying for the full cost of a YMCA program or membership. Asides scholarship\, it also strengthens the community by connecting people to their potential\, purpose\, and each other. \n\nCome take the plunge!
X-ALT-DESC;FMTTYPE=text/html:<em>The Schertz YMCA hosts an event&nbsp\;in partnership with the City every January called the Polar Bear Plunge. The Polar Bear Plunge is an event that helps the YMCA raise funds for our Scholarship Program. Our Scholarship Program is an financial assistance\, to the extent possible\, available for those needing assistance in paying for the full cost of a&nbsp\;YMCA program&nbsp\;or membership. Asides scholarship\, it also strengthens the community by connecting people to their potential\, purpose\, and each other.&nbsp\;<br />\nCome take the plunge!</em>
LOCATION:Pickrell Park Pool: 701 Oak Street Schertz TX 78154
UID:e.595.35670
SEQUENCE:3
DTSTAMP:20260425T015553Z
URL:https://business.thechamber.info/events/details/polar-bear-plunge-35670
END:VEVENT

END:VCALENDAR
