BEGIN:VCALENDAR
VERSION:2.0
PRODID:-//ChamberMaster//Event Calendar 2.0//EN
METHOD:PUBLISH
X-PUBLISHED-TTL:P3D
REFRESH-INTERVAL:P3D
CALSCALE:GREGORIAN
BEGIN:VEVENT
DTSTART:20201016T150000Z
DTEND:20201016T160000Z
X-MICROSOFT-CDO-ALLDAYEVENT:FALSE
SUMMARY:Plaque Presentation-Guardian IT
DESCRIPTION:We will be celebrating our newest member\, Guardian IT\, with a plaque presentation and officially welcoming them into The Chamber! \n\n\n\nGuardian IT is committed to providing superior IT services and support to ensure your business operates at full capacity. Network interruptions and downtime translates to loss of revenue and productivity. We aim to prevent disruptions caused by technology to keep your business  running smoothly. \n\n\n\n http://https://www.guardianit.tech/
X-ALT-DESC;FMTTYPE=text/html:We will be celebrating our newest member\,&nbsp\;<strong>Guardian IT</strong>\, with a plaque presentation and officially welcoming them into The Chamber!&nbsp\;<br />\n<br />\n<strong>Guardian IT</strong> is committed to providing superior IT services and support to ensure your business operates at full capacity. Network interruptions and downtime translates to loss of revenue and productivity. We aim to prevent disruptions caused by technology to keep your business&nbsp\; running smoothly.&nbsp\;<br />\n<br />\n&nbsp\;<a href="http://https://www.guardianit.tech/">http://https://www.guardianit.tech/</a>
LOCATION:1730 Schertz Parkway Schertz\, TX
UID:e.595.32323
SEQUENCE:3
DTSTAMP:20260423T014738Z
URL:https://business.thechamber.info/events/details/plaque-presentation-guardian-it-32323
END:VEVENT

END:VCALENDAR
