BEGIN:VCALENDAR
VERSION:2.0
PRODID:-//ChamberMaster//Event Calendar 2.0//EN
METHOD:PUBLISH
X-PUBLISHED-TTL:P3D
REFRESH-INTERVAL:P3D
CALSCALE:GREGORIAN
BEGIN:VEVENT
DTSTART:20201016T170000Z
DTEND:20201016T180000Z
X-MICROSOFT-CDO-ALLDAYEVENT:FALSE
SUMMARY:Multiple Ribbon Cutting Celebration
DESCRIPTION:Please join us for 6 multiple ribbon cuttings at one location for our newest Chamber Members! Please stop by and help us officially welcome each of them to The Chamber! \n\n\n\nAmerican Coffee & Espresso Bar\n\nhttps://www.facebook.com/americanacoffee/\n\nAligned Mortgage of Texas-Schertz\n\n https://www.alignedmortgage.com/\n\nCarla Barnes LPC\, PLLC\n\n https://www.carlabarneslpc.com/\n\nBrandi Martin LPC\, PLLC\n\nhttps://www.brandimartinlpc.com/\n\nChrissy Rae's Dance Academy\n\n https://sites.google.com/view/chrissyraesdanceacademy/home?authuser=0\n\nRegal Realty SA- NEW LOCATION!!\n\nhttps://www.regalrealtysa.com/
X-ALT-DESC;FMTTYPE=text/html:Please join us for 6 multiple ribbon cuttings at one location for our newest Chamber Members! Please stop by and help us officially welcome each of them to The Chamber!&nbsp\;<br />\n<br />\n<b style="color: rgb(60\, 64\, 67)\; font-family: Roboto\, Arial\, sans-serif\; font-size: 14px\; letter-spacing: 0.2px\; white-space: pre-wrap\; background-color: rgb(255\, 255\, 255)\;">American Coffee &amp\; Espresso Bar</b><br style="color: rgb(60\, 64\, 67)\; font-family: Roboto\, Arial\, sans-serif\; font-size: 14px\; letter-spacing: 0.2px\; white-space: pre-wrap\; background-color: rgb(255\, 255\, 255)\;" />\n<a href="https://www.google.com/url?q=https://www.facebook.com/americanacoffee/&amp\;sa=D&amp\;source=calendar&amp\;ust=1602100856839000&amp\;usg=AOvVaw1mqwMZ-kNEWHVM0_P2y_Yd" style="color: rgb(26\, 115\, 232)\; font-family: Roboto\, Arial\, sans-serif\; font-size: 14px\; letter-spacing: 0.2px\; white-space: pre-wrap\; background-color: rgb(255\, 255\, 255)\;" target="_blank">https://www.facebook.com/americanacoffee/</a><br style="color: rgb(60\, 64\, 67)\; font-family: Roboto\, Arial\, sans-serif\; font-size: 14px\; letter-spacing: 0.2px\; white-space: pre-wrap\; background-color: rgb(255\, 255\, 255)\;" />\n<b style="color: rgb(60\, 64\, 67)\; font-family: Roboto\, Arial\, sans-serif\; font-size: 14px\; letter-spacing: 0.2px\; white-space: pre-wrap\; background-color: rgb(255\, 255\, 255)\;">Aligned Mortgage of Texas-Schertz</b><br style="color: rgb(60\, 64\, 67)\; font-family: Roboto\, Arial\, sans-serif\; font-size: 14px\; letter-spacing: 0.2px\; white-space: pre-wrap\; background-color: rgb(255\, 255\, 255)\;" />\n<span style="color: rgb(60\, 64\, 67)\; font-family: Roboto\, Arial\, sans-serif\; font-size: 14px\; letter-spacing: 0.2px\; white-space: pre-wrap\; background-color: rgb(255\, 255\, 255)\;">&nbsp\;</span><a href="https://www.google.com/url?q=https://www.alignedmortgage.com/&amp\;sa=D&amp\;source=calendar&amp\;ust=1602100856839000&amp\;usg=AOvVaw1sIB21aPZum1KkemerCHeY" style="color: rgb(26\, 115\, 232)\; font-family: Roboto\, Arial\, sans-serif\; font-size: 14px\; letter-spacing: 0.2px\; white-space: pre-wrap\; background-color: rgb(255\, 255\, 255)\;" target="_blank">https://www.alignedmortgage.com/</a><br style="color: rgb(60\, 64\, 67)\; font-family: Roboto\, Arial\, sans-serif\; font-size: 14px\; letter-spacing: 0.2px\; white-space: pre-wrap\; background-color: rgb(255\, 255\, 255)\;" />\n<b style="color: rgb(60\, 64\, 67)\; font-family: Roboto\, Arial\, sans-serif\; font-size: 14px\; letter-spacing: 0.2px\; white-space: pre-wrap\; background-color: rgb(255\, 255\, 255)\;">Carla Barnes LPC\, PLLC</b><br style="color: rgb(60\, 64\, 67)\; font-family: Roboto\, Arial\, sans-serif\; font-size: 14px\; letter-spacing: 0.2px\; white-space: pre-wrap\; background-color: rgb(255\, 255\, 255)\;" />\n<span style="color: rgb(60\, 64\, 67)\; font-family: Roboto\, Arial\, sans-serif\; font-size: 14px\; letter-spacing: 0.2px\; white-space: pre-wrap\; background-color: rgb(255\, 255\, 255)\;">&nbsp\;</span><a href="https://www.google.com/url?q=https://www.carlabarneslpc.com/&amp\;sa=D&amp\;source=calendar&amp\;ust=1602100856839000&amp\;usg=AOvVaw35Wb37EqQE1UEPPT9wzo85" style="color: rgb(26\, 115\, 232)\; font-family: Roboto\, Arial\, sans-serif\; font-size: 14px\; letter-spacing: 0.2px\; white-space: pre-wrap\; background-color: rgb(255\, 255\, 255)\;" target="_blank">https://www.carlabarneslpc.com/</a><br style="color: rgb(60\, 64\, 67)\; font-family: Roboto\, Arial\, sans-serif\; font-size: 14px\; letter-spacing: 0.2px\; white-space: pre-wrap\; background-color: rgb(255\, 255\, 255)\;" />\n<b style="color: rgb(60\, 64\, 67)\; font-family: Roboto\, Arial\, sans-serif\; font-size: 14px\; letter-spacing: 0.2px\; white-space: pre-wrap\; background-color: rgb(255\, 255\, 255)\;">Brandi Martin LPC\, PLLC</b><br style="color: rgb(60\, 64\, 67)\; font-family: Roboto\, Arial\, sans-serif\; font-size: 14px\; letter-spacing: 0.2px\; white-space: pre-wrap\; background-color: rgb(255\, 255\, 255)\;" />\n<a href="https://www.google.com/url?q=https://www.brandimartinlpc.com/&amp\;sa=D&amp\;source=calendar&amp\;ust=1602100856839000&amp\;usg=AOvVaw2GaI6gHj_TT-OC41of9iTh" style="color: rgb(26\, 115\, 232)\; font-family: Roboto\, Arial\, sans-serif\; font-size: 14px\; letter-spacing: 0.2px\; white-space: pre-wrap\; background-color: rgb(255\, 255\, 255)\;" target="_blank">https://www.brandimartinlpc.com/</a><br style="color: rgb(60\, 64\, 67)\; font-family: Roboto\, Arial\, sans-serif\; font-size: 14px\; letter-spacing: 0.2px\; white-space: pre-wrap\; background-color: rgb(255\, 255\, 255)\;" />\n<b style="color: rgb(60\, 64\, 67)\; font-family: Roboto\, Arial\, sans-serif\; font-size: 14px\; letter-spacing: 0.2px\; white-space: pre-wrap\; background-color: rgb(255\, 255\, 255)\;">Chrissy Rae&#39\;s Dance Academy</b><br style="color: rgb(60\, 64\, 67)\; font-family: Roboto\, Arial\, sans-serif\; font-size: 14px\; letter-spacing: 0.2px\; white-space: pre-wrap\; background-color: rgb(255\, 255\, 255)\;" />\n<span style="color: rgb(60\, 64\, 67)\; font-family: Roboto\, Arial\, sans-serif\; font-size: 14px\; letter-spacing: 0.2px\; white-space: pre-wrap\; background-color: rgb(255\, 255\, 255)\;">&nbsp\;</span><a href="https://www.google.com/url?q=https://sites.google.com/view/chrissyraesdanceacademy/home?authuser%3D0&amp\;sa=D&amp\;source=calendar&amp\;ust=1602100856839000&amp\;usg=AOvVaw1Tkd8teeQugBOJ93W7uUVu" style="color: rgb(26\, 115\, 232)\; font-family: Roboto\, Arial\, sans-serif\; font-size: 14px\; letter-spacing: 0.2px\; white-space: pre-wrap\; background-color: rgb(255\, 255\, 255)\;" target="_blank">https://sites.google.com/view/chrissyraesdanceacademy/home?authuser=0</a><br />\n<b style="color: rgb(60\, 64\, 67)\; font-family: Roboto\, Arial\, sans-serif\; font-size: 14px\; letter-spacing: 0.2px\; white-space: pre-wrap\; background-color: rgb(255\, 255\, 255)\;">Regal Realty SA- NEW LOCATION!!</b><br />\n<a href="https://www.google.com/url?q=https://www.regalrealtysa.com/&amp\;sa=D&amp\;source=calendar&amp\;ust=1602104681240000&amp\;usg=AOvVaw1mS8ZRwiZ26gdLjaFe5tLM" style="color: rgb(26\, 115\, 232)\; font-family: Roboto\, Arial\, sans-serif\; font-size: 14px\; letter-spacing: 0.2px\; white-space: pre-wrap\; background-color: rgb(255\, 255\, 255)\;" target="_blank">https://www.regalrealtysa.com/</a>
LOCATION:816 Main Street Schertz\, TX
UID:e.595.32356
SEQUENCE:3
DTSTAMP:20260423T012521Z
URL:https://business.thechamber.info/events/details/multiple-ribbon-cutting-celebration-32356
END:VEVENT

END:VCALENDAR
