BEGIN:VCALENDAR
VERSION:2.0
PRODID:-//ChamberMaster//Event Calendar 2.0//EN
METHOD:PUBLISH
X-PUBLISHED-TTL:P3D
REFRESH-INTERVAL:P3D
CALSCALE:GREGORIAN
BEGIN:VEVENT
DTSTART;VALUE=DATE:20200611
DTEND;VALUE=DATE:20200612
TRANSP:TRANSPARENT
X-MICROSOFT-CDO-ALLDAYEVENT:TRUE
SUMMARY:Main Event Texas is NOW OPEN
DESCRIPTION:Hey Texas\, we're open and ready to play the safe way!  So round up the family and let's have some fun.  To learn more about the steps we've taken to keep you and your family safe visit www.maineventsafety.com.
X-ALT-DESC;FMTTYPE=text/html:Hey Texas\, we&#39\;re open and ready to play the safe way!&nbsp\; So round up the family and let&#39\;s have some fun.&nbsp\; To learn more about the steps we&#39\;ve taken to keep you and your family safe visit www.maineventsafety.com.
LOCATION:1911 N Loop 1604 E San Antonio TX 78232
UID:e.595.25321
SEQUENCE:3
DTSTAMP:20260424T204155Z
URL:https://business.thechamber.info/events/details/main-event-texas-is-now-open-25321
END:VEVENT

END:VCALENDAR
