BEGIN:VCALENDAR
VERSION:2.0
PRODID:-//ChamberMaster//Event Calendar 2.0//EN
METHOD:PUBLISH
X-PUBLISHED-TTL:P3D
REFRESH-INTERVAL:P3D
CALSCALE:GREGORIAN
BEGIN:VEVENT
DTSTART;VALUE=DATE:20210305
DTEND;VALUE=DATE:20210316
TRANSP:TRANSPARENT
X-MICROSOFT-CDO-ALLDAYEVENT:TRUE
SUMMARY:Kick Cancer Virtual Run
DESCRIPTION:The Kick Cancer Pep Rally and 5K Run\, formerly the Wilenchik Walk for Life\, invites the community to come together to rally in support of the many cancer research programs of the UT Health San Antonio MD Anderson Cancer Center (Mays Cancer Center).\n\nIn 2009\, the City hosted the inaugural 5K event in honor of former Schertz City Councilmember Tony Wilenchik. Tony was diagnosed in 2006 with Stage-4 Leiomyosarcoma\, a rare form of cancer. Tony's determination to face the disease head-on helped the City create a fund-raising event to help research cures for cancer. Through 2019\, more than $178\,000.00 has been raised and donated to the UT Health San Antonio MD Anderson Cancer Center to aid in their research.\n\n\n\n\n\n\n\n\n\nMARCH 5- MARCH 15\n\nJoin us this year for the virtual Kick Cancer 1K and 5K! \n\nPricing: \n\n1k Run? - $10.00 \n\n?5K Run? - $35.00 \n\nSigns of Love - $20.00 \n\nRegistered participants will receive a custom race medal\, event t-shirt\, print-at-home bib\, print-at-home certificate\, and other goodies if registered by February 15. Registration will remain open through March 15 but goodie bags are not guaranteed. \n\n Race goodie bags will be available Friday\, March 5\, 9:00 a.m. - 4:00 p.m. or Saturday\, March 6\, 10:00 a.m. - 2:00 p.m. at the Schertz Parks & Recreation Office\, 10 Commercial Place\, Bldg 1. \n\n Participants are encouraged to submit a photo of themselves in their event t-shirt and their race results by emailing parksandrec@schertz.com. A QR Code will also be available in the goodie bags to submit your results. Those with the fastest completion time in their age group will receive a prize. A photo of the distance and time must be submitted to qualify.  Submissions will be accepted no later than March 15\, 2021.  \n\nAge Groups: \n\n1K: 13 and under \n\n5K: 5-12\, 13-19\, 20-29\, 30-39\, 40-49\, 50-59\, 60+ \n\nRegister online through CivicRec or in person at the Parks & Recreation Office located at 10 Commercial Place\, Bldg. 1.?For more information call (210) 619-1850\, or email?parksandrec@schertz.com. Let's Kick Cancer Together!
X-ALT-DESC;FMTTYPE=text/html:<div>\n<div>\n<div>\n<div>\n<p>The Kick Cancer Pep Rally and 5K Run\, formerly the Wilenchik Walk for Life\, invites the community to come together to rally in support of the many cancer research programs of the UT Health San Antonio MD Anderson Cancer Center (Mays Cancer Center).</p>\n\n<p>In 2009\, the City hosted the inaugural 5K event in honor of former Schertz City Councilmember Tony Wilenchik. Tony was diagnosed in 2006 with Stage-4 Leiomyosarcoma\, a rare form of cancer. Tony&rsquo\;s determination to face the disease head-on helped the City create a fund-raising event to help research cures for cancer. Through 2019\, more than $178\,000.00 has been raised and donated to the UT Health San Antonio MD Anderson Cancer Center to aid in their research.</p>\n</div>\n</div>\n</div>\n</div>\n\n<div>\n<div>\n<div>\n<div>\n<h2>MARCH 5- MARCH 15</h2>\n\n<p>Join us this year for the virtual Kick Cancer 1K and 5K!&nbsp\;</p>\n\n<p><strong>Pricing</strong>:&nbsp\;</p>\n\n<p>1k Run? - $10.00&nbsp\;</p>\n\n<p>?5K Run? - $35.00&nbsp\;</p>\n\n<p>Signs of Love - $20.00&nbsp\;</p>\n\n<p>Registered participants will receive a custom race medal\, event t-shirt\, print-at-home bib\, print-at-home certificate\, and other goodies if registered by February 15. Registration will remain open through March 15 but goodie bags are not guaranteed.&nbsp\;</p>\n\n<p>&nbsp\;Race goodie bags will be available Friday\, March 5\, 9:00 a.m. - 4:00 p.m. or Saturday\, March 6\, 10:00 a.m. - 2:00 p.m. at the Schertz Parks &amp\; Recreation Office\, 10 Commercial Place\, Bldg 1.&nbsp\;</p>\n\n<p>&nbsp\;Participants are encouraged to submit a photo of themselves in their event t-shirt and their race results by emailing parksandrec@schertz.com. A QR Code will also be available in the goodie bags to submit your results. Those with the fastest completion time in their age group will receive a prize. A photo of the distance and time must be submitted to qualify. &nbsp\;Submissions will be accepted no later than March 15\, 2021. &nbsp\;</p>\n\n<p><strong>Age Groups:&nbsp\;</strong></p>\n\n<p>1K: 13 and under&nbsp\;</p>\n\n<p>5K: 5-12\, 13-19\, 20-29\, 30-39\, 40-49\, 50-59\, 60+&nbsp\;</p>\n\n<p><a href="https://secure.rec1.com/TX/schertz-tx/catalog/index?filter=dGFiJTVCMTA5NzElNUQ9MSZzZWFyY2g9JnJlbnRhbCU1QmZyb20lNUQ9JnJlbnRhbCU1QnRvJTVEPQ==" rel="noopener" style="box-sizing: border-box\; color: rgb(131\, 77\, 32)\;" target="_blank">Register online through CivicRec</a>&nbsp\;or in person at the Parks &amp\; Recreation Office located at 10 Commercial Place\, Bldg. 1.?For more information call (210) 619-1850\, or email?parksandrec@schertz.com. Let&rsquo\;s Kick Cancer Together!&nbsp\;</p>\n</div>\n</div>\n</div>\n</div>\n
LOCATION:
UID:e.595.34771
SEQUENCE:3
DTSTAMP:20260423T025920Z
URL:https://business.thechamber.info/events/details/kick-cancer-virtual-run-34771
END:VEVENT

END:VCALENDAR
