BEGIN:VCALENDAR
VERSION:2.0
PRODID:-//ChamberMaster//Event Calendar 2.0//EN
METHOD:PUBLISH
X-PUBLISHED-TTL:P3D
REFRESH-INTERVAL:P3D
CALSCALE:GREGORIAN
BEGIN:VEVENT
DTSTART:20260502T200000Z
DTEND:20260503T003000Z
X-MICROSOFT-CDO-ALLDAYEVENT:FALSE
SUMMARY:Kentucky Derby VIP Party
DESCRIPTION:Join us for an afternoon of excitement\, style\, and southern charm -\n\nall in support of Communities In Schools of South Central Texas\n\n \n\nVIP Party Starts at 3:00pm and includes:\n\nBuffet and Derby-inspired drinks\n\nBourbon raffle\n\n \n\nDerby Day Highlights at the Track (gates open at 9:00am):\n\nCorgi races on the track\n\nHat contest (with $300\, $200 and $100 prizes)\n\nWine tasting\n\nMint julep special\n\nPony rides in the paddock\n\nLive entertainment by Kelly Kenning\n\nLive betting throughout the day\n\nPost time for main race is 5:57pm
X-ALT-DESC;FMTTYPE=text/html:<h3 style="text-align:center"><span style="font-size:16px"><span style="color:rgb(0\, 0\, 0)">Join us for an afternoon of excitement\, style\, and southern charm -</span></span></h3>\n\n<h3 style="text-align:center"><span style="font-size:16px"><span style="color:rgb(0\, 0\, 0)">all in support of&nbsp\;<strong>Communities In Schools of South Central Texas</strong></span></span></h3>\n\n<h4 style="text-align:center">&nbsp\;</h4>\n\n<p style="text-align:center"><span style="color:rgb(0\, 0\, 0)"><strong>VIP Party Starts at 3:00pm and includes:</strong></span></p>\n\n<p style="text-align:center"><span style="color:rgb(0\, 0\, 0)">Buffet and Derby-inspired drinks</span></p>\n\n<p style="text-align:center"><span style="color:rgb(0\, 0\, 0)">Bourbon raffle</span></p>\n\n<p>&nbsp\;</p>\n\n<p style="text-align: center\;"><span style="color:rgb(0\, 0\, 0)"><strong>Derby Day Highlights at the Track (gates open at 9:00am):</strong></span></p>\n\n<p style="text-align:center"><span style="color:rgb(0\, 0\, 0)">Corgi races on the track</span></p>\n\n<p style="text-align:center"><span style="color:rgb(0\, 0\, 0)">Hat contest&nbsp\;(with $300\, $200 and $100 prizes)</span></p>\n\n<p style="text-align:center"><span style="color:rgb(0\, 0\, 0)">Wine tasting</span></p>\n\n<p style="text-align:center"><span style="color:rgb(0\, 0\, 0)">Mint julep special</span></p>\n\n<p style="text-align:center"><span style="color:rgb(0\, 0\, 0)">Pony rides in the paddock</span></p>\n\n<p style="text-align:center"><span style="color:rgb(0\, 0\, 0)">Live entertainment by Kelly Kenning</span></p>\n\n<p style="text-align:center"><span style="color:rgb(0\, 0\, 0)">Live betting throughout the day</span></p>\n\n<p style="text-align:center"><span style="color:rgb(0\, 0\, 0)">Post time for main race is 5:57pm</span></p>\n
LOCATION:Retama Park 1 Retama Way\, Selma\, Texas Turf & Field West Suite
UID:e.595.41809
SEQUENCE:3
DTSTAMP:20260422T174517Z
URL:https://business.thechamber.info/events/details/kentucky-derby-vip-party-41809
END:VEVENT

END:VCALENDAR
