BEGIN:VCALENDAR
VERSION:2.0
PRODID:-//ChamberMaster//Event Calendar 2.0//EN
METHOD:PUBLISH
X-PUBLISHED-TTL:P3D
REFRESH-INTERVAL:P3D
CALSCALE:GREGORIAN
BEGIN:VEVENT
DTSTART;VALUE=DATE:20201005
DTEND;VALUE=DATE:20201006
TRANSP:TRANSPARENT
X-MICROSOFT-CDO-ALLDAYEVENT:TRUE
SUMMARY:Jack-O-Lantern Jinx
DESCRIPTION:Paint\, Carve or Decorate a pumpkin of your choice\n	Upload finished pumpkin photo via social media or email\n	Prizes awarded in the following categories:\n	\n		Children (up to age 12)\n		Adults (13 and older)\n		\n			Best Use of Materials (1 each category)\n			Best Decorated Entry (1 each category)\n			Best Carved Entry (1 each category)\n		\n		\n		Prizes provided by HEB & GUNN
X-ALT-DESC;FMTTYPE=text/html:<div style="box-sizing: border-box\; margin-bottom: 0.35em\; border: 0px none\;">&nbsp\; &nbsp\; &nbsp\;</div>\n\n<ul style="box-sizing: border-box\; margin: 0px 0px 1.4em\; padding: 0px 0px 0px 2em\; border: 0px none\; color: rgb(20\, 20\, 12)\; background-color: rgb(255\, 255\, 255)\; list-style-type: circle\;">\n	<li style="font-family: Arial\; font-size: 14.4px\; box-sizing: border-box\; margin-bottom: 0.35em\; border: 0px none\;"><span style="font-size:14px\;"><span style="font-family:tahoma\;">Paint\, Carve or Decorate a pumpkin of your choice</span></span></li>\n	<li style="font-family: Arial\; font-size: 14.4px\; box-sizing: border-box\; margin-bottom: 0.35em\; border: 0px none\;"><span style="font-size:14px\;"><span style="font-family:tahoma\;">Upload finished pumpkin photo via social media or email</span></span></li>\n	<li style="box-sizing: border-box\; margin-bottom: 0.35em\; border: 0px none\;"><span style="font-family: Arial\; font-size: 14px\;"><span style="font-family:tahoma\;">Prizes awarded in the following categories:</span></span>\n	<ul style="box-sizing: border-box\; margin: 0px 0px 1.4em\; padding: 0px 0px 0px 2em\; border: 0px none\; width: inherit\;">\n		<li style="font-family: Arial\; font-size: 14.4px\; box-sizing: border-box\; margin-bottom: 0.35em\; border: 0px none\;"><span style="font-size:14px\;"><span style="font-family:tahoma\;">Children (up to age 12)</span></span></li>\n		<li style="font-family: Arial\; font-size: 14.4px\; box-sizing: border-box\; margin-bottom: 0.35em\; border: 0px none\;"><span style="font-size:14px\;"><span style="font-family:tahoma\;">Adults (13 and older)</span></span>\n		<ul style="box-sizing: border-box\; margin: 0px 0px 1.4em\; padding: 0px 0px 0px 2em\; border: 0px none\; list-style-type: circle\; width: inherit\;">\n			<li style="box-sizing: border-box\; margin-bottom: 0.35em\; border: 0px none\;"><span style="font-size:14px\;"><span style="font-family:tahoma\;">Best Use of Materials (1 each category)</span></span></li>\n			<li style="box-sizing: border-box\; margin-bottom: 0.35em\; border: 0px none\;"><span style="font-size:14px\;"><span style="font-family:tahoma\;">Best Decorated Entry (1 each category)</span></span></li>\n			<li style="box-sizing: border-box\; margin-bottom: 0.35em\; border: 0px none\;"><span style="font-size:14px\;"><span style="font-family:tahoma\;">Best Carved Entry (1 each category)</span></span></li>\n		</ul>\n		</li>\n		<li style="box-sizing: border-box\; margin-bottom: 0.35em\; border: 0px none\;"><font face="tahoma"><span style="font-size: 14px\;">Prizes provided by HEB &amp\; GUNN</span></font></li>\n	</ul>\n	</li>\n</ul>\n
LOCATION:
UID:e.595.32325
SEQUENCE:3
DTSTAMP:20260423T065138Z
URL:https://business.thechamber.info/events/details/jack-o-lantern-jinx-32325
END:VEVENT

END:VCALENDAR
