BEGIN:VCALENDAR
VERSION:2.0
PRODID:-//ChamberMaster//Event Calendar 2.0//EN
METHOD:PUBLISH
X-PUBLISHED-TTL:P3D
REFRESH-INTERVAL:P3D
CALSCALE:GREGORIAN
BEGIN:VEVENT
DTSTART:20201205T140000Z
DTEND:20201206T020000Z
X-MICROSOFT-CDO-ALLDAYEVENT:FALSE
SUMMARY:Holidazzle 2020
DESCRIPTION:We are not letting COVID-19 mask our holiday spirit this year\, and Holidazzle 2020 promises to bring the holiday cheer! Join us on Saturday\, December 5 as we kick-off the holiday season with a full day of fun. To promote the safety of residents\, ?social distance guidelines will be in place\; masks are required for persons ages 10 years and older.\n\nSanta's elves are cooking away to bring you a magical Breakfast with Santa. Warm and delicious pancakes and sausage will be served. Sessions for breakfast are 8:00 a.m.\, 9:30 a.m.\, and 11:00 a.m. Tickets are $10.00 each. Capacity limits will apply\, and social distancing will be practiced. Event information and registration are on schertz.com.\n\n \n\nHaven't started your holiday shopping? The Kris Kringle Market offers a unique shopping experience of hand-made crafts\, specialty food items\, and independent consultant products. The market will be open from 9:00 a.m. - 4:00 p.m. in the Schertz Civic Center. Additionally\, a Virtual Kris Kringle Market will be available throughout the month of December. Contact parksandrec@schertz.com for more information.\n\n \n\nThe snow and ice sure will be plentiful at the Holiday Hoopla with an ice-skating rink\, giant snow globe\, Mt. Schertz snow hill\, and snow angel play areas which will provide plenty of great photo opportunities! These attractions open at 2:00 p.m. and are FREE for all ages.\n\n \n\nHolly Jolly Entertainment will begin at 3:00 p.m. on the outdoor stage. While you enjoy the entertainment\, make sure to check out the Fireside Toasting & Roasting food trucks for a special treat!\n\n \n\nThe community favorite Festival of Angels lighted night parade will dazzle the crowds lined along Schertz Parkway and Main St. The parade steps off at 6:00 p.m. from Pickrell Park and concludes on Community Circle Dr. Registration is open for businesses\, non-profit groups and individuals to participate\; information can be found at schertz.com. Theme for the parade is Christmas Angels.\n\n \n\nFood and craft vendors interested in participating in the event can register at Schertz.com through CivicRec. Call the Parks and Recreation Office at (210) 619-1850 for any questions.\n\n \n\nThe Schertz Holidazzle promises a cheerful time for all ages to enjoy. We hope you join us for the holiday celebration! For more information\, follow the City of Schertz on Facebook or go to Schertz.com/Holidazzle.
X-ALT-DESC;FMTTYPE=text/html:<div>We are not letting COVID-19 mask our holiday spirit this year\, and Holidazzle 2020 promises to bring the holiday cheer! Join us on Saturday\, December 5 as we kick-off the holiday season with a full day of fun. To promote the safety of residents\, ?social distance guidelines will be in place\; masks are required for persons ages 10 years and older.</div>\n\n<div>Santa&rsquo\;s elves are cooking away to bring you a magical Breakfast with Santa. Warm and delicious pancakes and sausage will be served. Sessions for breakfast are 8:00 a.m.\, 9:30 a.m.\, and 11:00 a.m. Tickets are $10.00 each. Capacity limits will apply\, and social distancing will be practiced. Event information and registration are on&nbsp\;<a class="oajrlxb2 g5ia77u1 qu0x051f esr5mh6w e9989ue4 r7d6kgcz rq0escxv nhd2j8a9 nc684nl6 p7hjln8o kvgmc6g5 cxmmr5t8 oygrvhab hcukyx3x jb3vyjys rz4wbd8a qt6c0cv9 a8nywdso i1ao9s8h esuyzwwr f1sip0of lzcic4wl py34i1dx gpro0wi8" href="https://l.facebook.com/l.php?u=http%3A%2F%2Fschertz.com%2F%3Ffbclid%3DIwAR1E8F5S7GacnCQhHlxzepxil_9KdYN5YqJ4ylC2btTpQy_qSfpItZnFduA&amp\;h=AT1_x-eyFesN5djvurcIY5ERFa_KaWS11kzF9NEPtHNxE1RH8N09LGQQ5t8RE3eqx0sOnxKOqWO5NdMW2QqEr8c4h-FdiyLi6m9cajxmbt_SagOmMTXoWOnc8cMR4nMuMPSZdGa7Bg&amp\;__tn__=q&amp\;c[0]=AT3hcdQM313o853gcci324zAtA2uLOT6BWk38iiZrvKON8ZZ6k7D0eK1JGHkDOX__ZQgv2K8wXL-CbwKMVH1DfRfY-7PZ2swq78ZoF--ioFDIFapT6cgp5pnueQXACAtjZ4pGkGV9nXTWIq3xuI2umDA" rel="nofollow noopener" style="color: var(--blue-link)\; cursor: pointer\; text-decoration-line: none\; outline: none\; list-style: none\; border-width: 0px\; border-style: initial\; border-color: initial\; padding: 0px\; margin: 0px\; touch-action: manipulation\; background-color: transparent\; text-align: inherit\; display: inline\; -webkit-tap-highlight-color: transparent\; box-sizing: border-box\; font-family: inherit\;" tabindex="0" target="_blank">schertz.com.</a><br />\n&nbsp\;</div>\n\n<div>Haven&#39\;t started your holiday shopping? The Kris Kringle Market offers a unique shopping experience of hand-made crafts\, specialty food items\, and independent consultant products. The market will be open from 9:00 a.m. - 4:00 p.m. in the Schertz Civic Center. Additionally\, a Virtual Kris Kringle Market will be available throughout the month of December. Contact parksandrec@schertz.com for more information.<br />\n&nbsp\;</div>\n\n<div>The snow and ice sure will be plentiful at the Holiday Hoopla with an ice-skating rink\, giant snow globe\, Mt. Schertz snow hill\, and snow angel play areas which will provide plenty of great photo opportunities! These attractions open at 2:00 p.m. and are FREE for all ages.<br />\n&nbsp\;</div>\n\n<div>Holly Jolly Entertainment will begin at 3:00 p.m. on the outdoor stage. While you enjoy the entertainment\, make sure to check out the Fireside Toasting &amp\; Roasting food trucks for a special treat!<br />\n&nbsp\;</div>\n\n<div>The community favorite Festival of Angels lighted night parade will dazzle the crowds lined along Schertz Parkway and Main St. The parade steps off at 6:00 p.m. from Pickrell Park and concludes on Community Circle Dr. Registration is open for businesses\, non-profit groups and individuals to participate\; information can be found at&nbsp\;<a class="oajrlxb2 g5ia77u1 qu0x051f esr5mh6w e9989ue4 r7d6kgcz rq0escxv nhd2j8a9 nc684nl6 p7hjln8o kvgmc6g5 cxmmr5t8 oygrvhab hcukyx3x jb3vyjys rz4wbd8a qt6c0cv9 a8nywdso i1ao9s8h esuyzwwr f1sip0of lzcic4wl py34i1dx gpro0wi8" href="https://l.facebook.com/l.php?u=http%3A%2F%2Fschertz.com%2F%3Ffbclid%3DIwAR02IF8715E6AH7c7hXCU5bMEAv54zQwQcIp9GjKDg4u4k4L5u23IUP9Jcg&amp\;h=AT1_x-eyFesN5djvurcIY5ERFa_KaWS11kzF9NEPtHNxE1RH8N09LGQQ5t8RE3eqx0sOnxKOqWO5NdMW2QqEr8c4h-FdiyLi6m9cajxmbt_SagOmMTXoWOnc8cMR4nMuMPSZdGa7Bg&amp\;__tn__=q&amp\;c[0]=AT3hcdQM313o853gcci324zAtA2uLOT6BWk38iiZrvKON8ZZ6k7D0eK1JGHkDOX__ZQgv2K8wXL-CbwKMVH1DfRfY-7PZ2swq78ZoF--ioFDIFapT6cgp5pnueQXACAtjZ4pGkGV9nXTWIq3xuI2umDA" rel="nofollow noopener" style="color: var(--blue-link)\; cursor: pointer\; text-decoration-line: none\; outline: none\; list-style: none\; border-width: 0px\; border-style: initial\; border-color: initial\; padding: 0px\; margin: 0px\; touch-action: manipulation\; background-color: transparent\; text-align: inherit\; display: inline\; -webkit-tap-highlight-color: transparent\; box-sizing: border-box\; font-family: inherit\;" tabindex="0" target="_blank">schertz.com.</a>&nbsp\;Theme for the parade is Christmas Angels.<br />\n&nbsp\;</div>\n\n<div>Food and craft vendors interested in participating in the event can register at&nbsp\;<a class="oajrlxb2 g5ia77u1 qu0x051f esr5mh6w e9989ue4 r7d6kgcz rq0escxv nhd2j8a9 nc684nl6 p7hjln8o kvgmc6g5 cxmmr5t8 oygrvhab hcukyx3x jb3vyjys rz4wbd8a qt6c0cv9 a8nywdso i1ao9s8h esuyzwwr f1sip0of lzcic4wl py34i1dx gpro0wi8" href="https://l.facebook.com/l.php?u=http%3A%2F%2FSchertz.com%2F%3Ffbclid%3DIwAR308qk8K7fGk3Pc0dSr22I6rkAwHVTG-KWU3Aku8VcKxYB9iJowz4y42uc&amp\;h=AT1n2nINRPqzv--0L1lsZ5BGhVPpJwXJlCymqUni3ecVHUUZ2bZJOz0tn1kKrZv1xinaEM81giL4GHAh8yo8ZTP1HwyiLmHRu2yVhQ7C2tVoW_haUQrl85Zsy-OY4K9UsB-YiGeTdA&amp\;__tn__=q&amp\;c[0]=AT3hcdQM313o853gcci324zAtA2uLOT6BWk38iiZrvKON8ZZ6k7D0eK1JGHkDOX__ZQgv2K8wXL-CbwKMVH1DfRfY-7PZ2swq78ZoF--ioFDIFapT6cgp5pnueQXACAtjZ4pGkGV9nXTWIq3xuI2umDA" rel="nofollow noopener" style="color: var(--blue-link)\; cursor: pointer\; text-decoration-line: none\; outline: none\; list-style: none\; border-width: 0px\; border-style: initial\; border-color: initial\; padding: 0px\; margin: 0px\; touch-action: manipulation\; background-color: transparent\; text-align: inherit\; display: inline\; -webkit-tap-highlight-color: transparent\; box-sizing: border-box\; font-family: inherit\;" tabindex="0" target="_blank">Schertz.com</a>&nbsp\;through CivicRec. Call the Parks and Recreation Office at (210) 619-1850 for any questions.<br />\n&nbsp\;</div>\n\n<div>The Schertz Holidazzle promises a cheerful time for all ages to enjoy. We hope you join us for the holiday celebration! For more information\, follow the City of Schertz on Facebook or go to&nbsp\;<a class="oajrlxb2 g5ia77u1 qu0x051f esr5mh6w e9989ue4 r7d6kgcz rq0escxv nhd2j8a9 nc684nl6 p7hjln8o kvgmc6g5 cxmmr5t8 oygrvhab hcukyx3x jb3vyjys rz4wbd8a qt6c0cv9 a8nywdso i1ao9s8h esuyzwwr f1sip0of lzcic4wl py34i1dx gpro0wi8" href="http://schertz.com/Holidazzle?fbclid=IwAR1qBMZxMzoqua9JOAesJW0v2nUmjYThuaT2N77buqZSF0WlUVv1_QAuJk4" rel="nofollow noopener" style="color: var(--blue-link)\; cursor: pointer\; text-decoration-line: none\; outline: none\; list-style: none\; border-width: 0px\; border-style: initial\; border-color: initial\; padding: 0px\; margin: 0px\; touch-action: manipulation\; background-color: transparent\; text-align: inherit\; display: inline\; -webkit-tap-highlight-color: transparent\; box-sizing: border-box\; font-family: inherit\;" tabindex="0" target="_blank">Schertz.com/Holidazzle</a>.</div>\n
LOCATION:Hal Baldwin Municipal Complex 1400 Schertz Parkway Schertz\, TX
UID:e.595.32424
SEQUENCE:3
DTSTAMP:20260424T111249Z
URL:https://business.thechamber.info/events/details/holidazzle-2020-32424
END:VEVENT

END:VCALENDAR
