BEGIN:VCALENDAR
VERSION:2.0
PRODID:-//ChamberMaster//Event Calendar 2.0//EN
METHOD:PUBLISH
X-PUBLISHED-TTL:P3D
REFRESH-INTERVAL:P3D
CALSCALE:GREGORIAN
BEGIN:VEVENT
DTSTART:20240203T160000Z
DTEND:20240203T190000Z
X-MICROSOFT-CDO-ALLDAYEVENT:FALSE
SUMMARY:Health and Home Show
DESCRIPTION:Join us for our annual Health and Home Show featuring dozens of local medical and home service providers. Free health screenings\, flu shots\, giveaways and more! Local home service providers including solar\, roofing\, home improvements and more! FREE to attend!\n\n\n\nVENDOR BOOTHS SOLD OUT
X-ALT-DESC;FMTTYPE=text/html:Join us for our annual Health and Home Show featuring dozens of local medical and home service providers. Free health screenings\, flu shots\, giveaways and more! Local home service providers including solar\, roofing\, home improvements and more! FREE to attend!<br />\n<br />\n<span style="font-size:20px\;"><strong><font color="#b22222">VENDOR BOOTHS SOLD OUT</font></strong></span>
LOCATION:Schertz Civic Center 1400 Schertz Parkway\, Building #5
UID:e.595.37067
SEQUENCE:3
DTSTAMP:20260424T185335Z
URL:https://business.thechamber.info/events/details/health-and-home-show-37067
END:VEVENT

END:VCALENDAR
