BEGIN:VCALENDAR
VERSION:2.0
PRODID:-//ChamberMaster//Event Calendar 2.0//EN
METHOD:PUBLISH
X-PUBLISHED-TTL:P3D
REFRESH-INTERVAL:P3D
CALSCALE:GREGORIAN
BEGIN:VEVENT
DTSTART;VALUE=DATE:20200817
DTEND;VALUE=DATE:20200818
TRANSP:TRANSPARENT
X-MICROSOFT-CDO-ALLDAYEVENT:TRUE
SUMMARY:GVEC Power Up Grant Application Due
DESCRIPTION:Attention Nonprofits: The deadline for Power Up grant applications is coming up fast! Don't miss out on a chance to fund your community projects! The last day to turn in applications is August 17. APPLY TODAY: https://www.gvec.org/forms/power-up-grant-app/
X-ALT-DESC;FMTTYPE=text/html:Attention Nonprofits: The deadline for Power Up grant applications is coming up fast! Don&rsquo\;t miss out on a chance to fund your community projects! The last day to turn in applications is August 17. APPLY TODAY: https://www.gvec.org/forms/power-up-grant-app/
LOCATION:
UID:e.595.25542
SEQUENCE:3
DTSTAMP:20260424T203934Z
URL:https://business.thechamber.info/events/details/gvec-power-up-grant-application-due-25542
END:VEVENT

END:VCALENDAR
