BEGIN:VCALENDAR
VERSION:2.0
PRODID:-//ChamberMaster//Event Calendar 2.0//EN
METHOD:PUBLISH
X-PUBLISHED-TTL:P3D
REFRESH-INTERVAL:P3D
CALSCALE:GREGORIAN
BEGIN:VEVENT
DTSTART:20200822T013000Z
DTEND:20200824T040000Z
X-MICROSOFT-CDO-ALLDAYEVENT:FALSE
SUMMARY:EVO Drive-In: Unhinged
DESCRIPTION:Experience Unhinged Movie at EVO Drive-In this weekend.\n\nGet your tickets NOW: www.evodrivein.com/showtimes
X-ALT-DESC;FMTTYPE=text/html:<div>Experience&nbsp\;<span style="font-family:inherit"><a class="oajrlxb2 g5ia77u1 qu0x051f esr5mh6w e9989ue4 r7d6kgcz rq0escxv nhd2j8a9 nc684nl6 p7hjln8o kvgmc6g5 cxmmr5t8 oygrvhab hcukyx3x jb3vyjys rz4wbd8a qt6c0cv9 a8nywdso i1ao9s8h esuyzwwr f1sip0of lzcic4wl q66pz984 gpro0wi8 b1v8xokw" href="https://www.facebook.com/hashtag/unhingedmovie?__eep__=6&amp\;__cft__[0]=AZVvEF0REj-F2m47JIu8jT676jPED913uQ_g23K-s61iKaz7R3HTxwfCpkxMk0f4gbLBzSr-YXW4NngIXx3TEFpvvZ6BmE1zRAfoEAhyJA3pghLbM6A4p069Qbq66pqPzLnklFdQwEyKhA4K5T5VrpFRKxUrYaEIpQWlC03RzTy2Rzb6pTX4oP0LnGog3NaFnA0&amp\;__tn__=*NK-R" style="color: var(--accent)\; cursor: pointer\; text-decoration-line: none\; outline: none\; list-style: none\; border-width: 0px\; border-style: initial\; border-color: initial\; padding: 0px\; margin: 0px\; touch-action: manipulation\; background-color: transparent\; text-align: inherit\; display: inline\; -webkit-tap-highlight-color: transparent\; box-sizing: border-box\; font-family: inherit\;" tabindex="0">Unhinged Movie</a>&nbsp\;at EVO Drive-In</span>&nbsp\;this weekend.</div>\n\n<div>Get your tickets NOW: <span style="font-family:inherit"><a class="oajrlxb2 g5ia77u1 qu0x051f esr5mh6w e9989ue4 r7d6kgcz rq0escxv nhd2j8a9 nc684nl6 p7hjln8o kvgmc6g5 cxmmr5t8 oygrvhab hcukyx3x jb3vyjys rz4wbd8a qt6c0cv9 a8nywdso i1ao9s8h esuyzwwr f1sip0of lzcic4wl py34i1dx gpro0wi8" href="https://l.facebook.com/l.php?u=http%3A%2F%2Fwww.evodrivein.com%2Fshowtimes%3Ffbclid%3DIwAR31MHauMcElMUUfrHujfFolN5V_xbO5MttNtAqCeDIEk5lv0uP90rp50jE&amp\;h=AT286i38WK7ckZ_R9031WJYpQlouhRRsb2mwFa7H0lvHt9mqCwcSgEk6b7XUlhHqLoTx6j91zhbRn_IKQ3Quqx9BGK2yPIZkCSIfNwk4aHatfH7u2z-PbQTKacyVbVVUiA&amp\;__tn__=-UK-R&amp\;c[0]=AT267ju5pvhUw6heaphr_e66Bmlk6aFSIDP4gGoTHnjVYZVp2WPg53ALydw5m9ryp6hkjfB5p8kv9UeEx60DTVkZwdU1SNu1SqH-7KvXC4PG-iEqYB5ZiOKxh7HHNZeXU7yPbh6unjqygShnXUkIzhuOatdQJ_WxbAAoYAcSoMrt61qHEI6rnKIYkxs8syU0A07EDr7Hbfk" rel="nofollow noopener" style="color: var(--blue-link)\; cursor: pointer\; text-decoration-line: none\; outline: none\; list-style: none\; border-width: 0px\; border-style: initial\; border-color: initial\; padding: 0px\; margin: 0px\; touch-action: manipulation\; background-color: transparent\; text-align: inherit\; display: inline\; -webkit-tap-highlight-color: transparent\; box-sizing: border-box\; font-family: inherit\;" tabindex="0" target="_blank">www.evodrivein.com/showtimes</a></span></div>\n
LOCATION:EVO Entertainment - Schertz 18658 IH 35 N Schertz\, TX 78154
UID:e.595.25748
SEQUENCE:3
DTSTAMP:20260423T184313Z
URL:https://business.thechamber.info/events/details/evo-drive-in-unhinged-25748
END:VEVENT

END:VCALENDAR
