BEGIN:VCALENDAR
VERSION:2.0
PRODID:-//ChamberMaster//Event Calendar 2.0//EN
METHOD:PUBLISH
X-PUBLISHED-TTL:P3D
REFRESH-INTERVAL:P3D
CALSCALE:GREGORIAN
BEGIN:VEVENT
DTSTART:20200526T013000Z
DTEND:20200526T040000Z
X-MICROSOFT-CDO-ALLDAYEVENT:FALSE
SUMMARY:EVO Drive In - Space Jam
DESCRIPTION:The EVO  Drive-In experience was created to bring the escape of movie-going back to our communities in this age of social distancing. This experience is available at EVO Kyle\, EVO Schertz\, and Starplex. Visit www.evodrivein.com for show times and to purchase tickets! If interested in reserving the drive-in for your organization or business\, contact us for more info!
X-ALT-DESC;FMTTYPE=text/html:<span style="color:rgb(54\, 54\, 54)\; font-family:arial\,helvetica\,sans-serif\; font-size:16px">The EVO&reg\; Drive-In experience was created to bring the escape of movie-going back to our communities in this age of social distancing. This experience is available at EVO Kyle\, EVO Schertz\, and Starplex. Visit www.evodrivein.com for show times and to purchase tickets! If interested in reserving the drive-in for your organization or business\, contact us for more info!</span>
LOCATION:EVO Entertainment - Schertz 18658 IH 35 N Schertz\, TX 78154
UID:e.595.25304
SEQUENCE:3
DTSTAMP:20260425T010128Z
URL:https://business.thechamber.info/events/details/evo-drive-in-space-jam-25304
END:VEVENT

END:VCALENDAR
