BEGIN:VCALENDAR
VERSION:2.0
PRODID:-//ChamberMaster//Event Calendar 2.0//EN
METHOD:PUBLISH
X-PUBLISHED-TTL:P3D
REFRESH-INTERVAL:P3D
CALSCALE:GREGORIAN
BEGIN:VEVENT
DTSTART:20260430T140000Z
DTEND:20260430T150000Z
X-MICROSOFT-CDO-ALLDAYEVENT:FALSE
SUMMARY:Edward Jones Coffee Club Event
DESCRIPTION:You're invited to join us for our monthly Coffee Club event. Financial Advisor Matt Bauer will discuss current updates on the market and the economy\, followed by an informal discussion.\n\nFeel free to bring a friend.\n\nThe refreshments are on us\, but spaces are limited so please respond by April 29th.\n\nRSVP to julie.burrier@edwardjones.com.
X-ALT-DESC;FMTTYPE=text/html:You&#39\;re invited to join us for our monthly Coffee Club event. Financial Advisor Matt Bauer will discuss current updates on the market and the economy\, followed by an informal discussion.<br />\nFeel free to bring a friend.<br />\nThe refreshments are on us\, but spaces are limited so please respond by <strong>April 29th</strong>.<br />\n<em>RSVP to julie.burrier@edwardjones.com.&nbsp\;</em>
LOCATION:Edward Jones 1 Commercial Place\, Suite 101 Schertz\, TX off of FM 1518
UID:e.595.41811
SEQUENCE:3
DTSTAMP:20260421T185529Z
URL:https://business.thechamber.info/events/details/edward-jones-coffee-club-event-04-30-2026-41811
END:VEVENT

END:VCALENDAR
