BEGIN:VCALENDAR
VERSION:2.0
PRODID:-//ChamberMaster//Event Calendar 2.0//EN
METHOD:PUBLISH
X-PUBLISHED-TTL:P3D
REFRESH-INTERVAL:P3D
CALSCALE:GREGORIAN
BEGIN:VEVENT
DTSTART:20260523T130000Z
DTEND:20260523T180000Z
X-MICROSOFT-CDO-ALLDAYEVENT:FALSE
SUMMARY:DC's 1st Annual Growth and Development Youth Camp with B-Better Performance
DESCRIPTION:B-Better Performance\, Dicks Sporting Goods\, Goat Productions\,DJ Tee Reckz & K.Cole Sports has partnered with Dontae Carter   Steele High School Alumni & Vanderbilt Commodores football standout   for a FREE  DC 1st annual Growth & Development Camp! \n\nSaturday\, May 23rd\n\nLet's get the work in \n\n\n\n Youth Camp: Grads 2031 2034\n\n HS Competition Camp: Grads 2027 2030 (ALL positions   come compete!)\n\nCompetition camp with CASH PRIZES\n\nLive DJ   Prizes   Development + Exposure\n\nSteele High School | Cibolo\, TX\n\nThis is your chance to train\, compete\, and learn from one of the best!\n\n Hit the URL and get registered NOW or https://calendly.com/bbetterperformance\n\nCoaches   get your players in! \n\n#BBetterPerformance #FootballCamp #GetBetter #Compete
X-ALT-DESC;FMTTYPE=text/html:<p>B-Better Performance\, Dicks Sporting Goods\, Goat Productions\,DJ Tee Reckz &amp\; K.Cole Sports has partnered with Dontae Carter &mdash\; Steele High School Alumni &amp\; Vanderbilt Commodores football standout &mdash\; for a FREE &nbsp\;DC 1st annual Growth &amp\; Development&nbsp\;Camp!&nbsp\;</p>\n\n<p>Saturday\, May 23rd</p>\n\n<p>Let&rsquo\;s get the work in&nbsp\;<br />\n<br />\n&nbsp\;Youth Camp: Grads 2031&ndash\;2034</p>\n\n<p>&nbsp\;HS Competition Camp: Grads 2027&ndash\;2030 (ALL positions &mdash\; come compete!)</p>\n\n<p>Competition camp with CASH PRIZES</p>\n\n<p>Live DJ &bull\; Prizes &bull\; Development + Exposure</p>\n\n<p>Steele High School | Cibolo\, TX</p>\n\n<p>This is your chance to train\, compete\, and learn from one of the best!</p>\n\n<p>&nbsp\;Hit the URL and get registered NOW or&nbsp\;<a href="https://calendly.com/bbetterperformance">https://calendly.com/bbetterperformance</a></p>\n\n<p>Coaches &mdash\; get your players in!&nbsp\;</p>\n\n<p>#BBetterPerformance #FootballCamp #GetBetter #Compete</p>\n\n<div>&nbsp\;</div>\n
LOCATION:Steele High School | Cibolo\, TX
UID:e.595.41805
SEQUENCE:3
DTSTAMP:20260421T022753Z
URL:https://business.thechamber.info/events/details/dc-s-1st-annual-growth-and-development-youth-camp-with-b-better-performance-41805
END:VEVENT

END:VCALENDAR
