BEGIN:VCALENDAR
VERSION:2.0
PRODID:-//ChamberMaster//Event Calendar 2.0//EN
METHOD:PUBLISH
X-PUBLISHED-TTL:P3D
REFRESH-INTERVAL:P3D
CALSCALE:GREGORIAN
BEGIN:VEVENT
DTSTART:20200801T140000Z
DTEND:20200801T170000Z
X-MICROSOFT-CDO-ALLDAYEVENT:FALSE
SUMMARY:Community Car Seat Check
DESCRIPTION:Did you know that more than half of car seats are not used or installed correctly?\n\n\n\nLearn how to properly install your car seats and ensure your child's safety by joining Schertz Police Department\, Schertz EMS\, Cibolo Police Department\, Selma Police Department\, and Universal City Fire Department at Pickrell Park on Saturday\, August 1.\n\n\n\nBy Appointment Only: contact Officer Kraft (210) 619-1264 or email akraft@schertz.com.
X-ALT-DESC;FMTTYPE=text/html:<span style="color:rgb(20\, 20\, 12)\; font-family:arial\; font-size:14.4px">Did you know that more than half of car seats are not used or installed correctly?</span><br />\n<br />\n<span style="color:rgb(20\, 20\, 12)\; font-family:arial\; font-size:14.4px">Learn how to properly install your car seats and ensure your child&rsquo\;s safety by joining Schertz Police Department\, Schertz EMS\, Cibolo Police Department\, Selma Police Department\, and Universal City Fire Department at Pickrell Park on Saturday\, August 1.</span><br />\n<br />\n<span style="color:rgb(20\, 20\, 12)\; font-family:arial\; font-size:14.4px">By Appointment Only: contact Officer Kraft (210) 619-1264 or email&nbsp\;</span><a href="mailto:akraft@schertz.com" style="box-sizing: content-box\; margin: 0px\; padding: 0px\; border: 0px\; outline: 0px\; font-size: 14.4px\; font-family: Arial\; vertical-align: baseline\; color: rgb(131\, 77\, 32)\;">akraft@schertz.com</a><span style="color:rgb(20\, 20\, 12)\; font-family:arial\; font-size:14.4px">.</span>
LOCATION:Pickrell Park
UID:e.595.25332
SEQUENCE:3
DTSTAMP:20260424T022646Z
URL:https://business.thechamber.info/events/details/community-car-seat-check-25332
END:VEVENT

END:VCALENDAR
