BEGIN:VCALENDAR
VERSION:2.0
PRODID:-//ChamberMaster//Event Calendar 2.0//EN
METHOD:PUBLISH
X-PUBLISHED-TTL:P3D
REFRESH-INTERVAL:P3D
CALSCALE:GREGORIAN
BEGIN:VEVENT
DTSTART:20240220T171500Z
DTEND:20240220T190000Z
X-MICROSOFT-CDO-ALLDAYEVENT:FALSE
SUMMARY:Chamber Monthly Luncheon: State of The Cities
DESCRIPTION:
X-ALT-DESC;FMTTYPE=text/html:
LOCATION:Schertz Civic Center 1400 Schertz Parkway Schertz\, TX Join us at the February Luncheon for the "State of the Cities" addresses and hear from the City Managers of Schertz\, Cibolo\, and Selma. They will discuss the past year and upcoming projects within the community.
UID:e.595.37037
SEQUENCE:3
DTSTAMP:20260424T185824Z
URL:https://business.thechamber.info/events/details/chamber-monthly-luncheon-state-of-the-cities-02-20-2024-37037
END:VEVENT

END:VCALENDAR
