BEGIN:VCALENDAR
VERSION:2.0
PRODID:-//ChamberMaster//Event Calendar 2.0//EN
METHOD:PUBLISH
X-PUBLISHED-TTL:P3D
REFRESH-INTERVAL:P3D
CALSCALE:GREGORIAN
BEGIN:VEVENT
DTSTART;VALUE=DATE:20201012
DTEND;VALUE=DATE:20201013
TRANSP:TRANSPARENT
X-MICROSOFT-CDO-ALLDAYEVENT:TRUE
SUMMARY:Art Chalk-Ula
DESCRIPTION:October 12th through October 18th \n\n\n\nFamilies get creative as you transform your driveway or sidewalk into a work of art! Submit a photo of the finished art via social media or e-mail.\n\nPrizes awarded to the top three entries!\n\n\n\nSponsored by HEB/Abel's Diner/Gunn
X-ALT-DESC;FMTTYPE=text/html:<br />\n<br />\nOctober 12th through October 18th&nbsp\;<br />\n<br />\nFamilies get creative as you transform your driveway or sidewalk into a work of art! Submit a photo of the finished art via social media or e-mail.<br />\nPrizes awarded to the top three entries!<br />\n<br />\nSponsored by HEB/Abel&#39\;s Diner/Gunn
LOCATION:
UID:e.595.32326
SEQUENCE:3
DTSTAMP:20260423T120257Z
URL:https://business.thechamber.info/events/details/art-chalk-ula-32326
END:VEVENT

END:VCALENDAR
