BEGIN:VCALENDAR
VERSION:2.0
PRODID:-//ChamberMaster//Event Calendar 2.0//EN
METHOD:PUBLISH
X-PUBLISHED-TTL:P3D
REFRESH-INTERVAL:P3D
CALSCALE:GREGORIAN
BEGIN:VEVENT
DTSTART:20240205T173000Z
DTEND:20240205T183000Z
X-MICROSOFT-CDO-ALLDAYEVENT:FALSE
SUMMARY:Ambassador Meeting 2024
DESCRIPTION:The Ambassadors\, in their distinctive ?red coats?\, are a volunteer group of members of The Chamber of Commerce who represent the Chamber at our Ribbon Cuttings\, Grand Openings\, Chamber Luncheons\, Mixers and many more Chamber events.  By doing so\, they are the ?Face of the Chamber? as they connect with members\, local businesses and the community.\n\n\n\nAmbassadors meet monthly at Blue Bonnet Palace on the first Monday\, with holidays being the exception. Joining the Ambassador Committee is free if your business is a Chamber Member\, and meetings are open for observation but you must RSVP your attendance prior to finance@thechamber.info.  \n\n\n\nFor more information about becoming an Ambassador\, please contact Carmal Terrell at The Chamber by calling (210)764-4030 or emailing events@thechamber.info.
X-ALT-DESC;FMTTYPE=text/html:<span style="font-family: Arial\, Helvetica\, Swiss\, SunSans-Regular\;">The Ambassadors\, in their distinctive ?red coats?\, are a volunteer group of members of The Chamber of Commerce who represent the Chamber at our Ribbon Cuttings\, Grand Openings\, Chamber Luncheons\, Mixers and many more Chamber events.&nbsp\; By doing so\, they are the ?Face of the Chamber? as they connect with members\, local businesses and the community.</span><br />\n<br />\nAmbassadors meet monthly at Blue Bonnet Palace on the first Monday\, with holidays being the exception. Joining the Ambassador Committee is free if your business is a Chamber Member\, and meetings are open for observation but you must RSVP your attendance prior to finance@thechamber.info.&nbsp\;&nbsp\;<br />\n<br />\nFor more information about becoming an Ambassador\, please contact Carmal Terrell at The Chamber by calling (210)764-4030 or emailing <a href="mailto:finance@thechamber.info?subject=Ambassador&amp\;body=Hello%2C%20">events@thechamber.info</a>.
LOCATION:Blue Bonnet Palace 17630 Lookout Road Selma\, TX 78154
UID:e.595.36587
SEQUENCE:3
DTSTAMP:20260424T185502Z
URL:https://business.thechamber.info/events/details/ambassador-meeting-02-05-2024-36587
END:VEVENT

END:VCALENDAR
