BEGIN:VCALENDAR
VERSION:2.0
PRODID:-//ChamberMaster//Event Calendar 2.0//EN
METHOD:PUBLISH
X-PUBLISHED-TTL:P3D
REFRESH-INTERVAL:P3D
CALSCALE:GREGORIAN
BEGIN:VEVENT
DTSTART:20260430T230000Z
DTEND:20260501T000000Z
X-MICROSOFT-CDO-ALLDAYEVENT:FALSE
SUMMARY:2026 Spring Public Forum Green Valley SUD
DESCRIPTION:We invite our customers and community partners to the Green Valley Special Utility District 2026 Spring Public Forum! Join our staff and Board of Directors as we share updates on our 2025 Strategic Plan and discuss how we are building a strong\, reliable\, and sustainable water future.\n\n	April 30\, 2026 | 6:00 p.m.\n	605 FM 465\, Marion\, TX 78124\n	Learn about infrastructure upgrades and operational improvements\n	Hear how we are optimizing water resources and strengthening our professional culture\n	Ask questions and share public comments with our Board and leadership team
X-ALT-DESC;FMTTYPE=text/html:We invite our customers and community partners to the Green Valley Special Utility District 2026 Spring Public Forum! Join our staff and Board of Directors as we share updates on our 2025 Strategic Plan and discuss how we are building a strong\, reliable\, and sustainable water future.\n<ul>\n	<li>April 30\, 2026 | 6:00 p.m.</li>\n	<li>605 FM 465\, Marion\, TX 78124</li>\n	<li>Learn about infrastructure upgrades and operational improvements</li>\n	<li>Hear how we are optimizing water resources and strengthening our professional culture</li>\n	<li>Ask questions and share public comments with our Board and leadership team</li>\n</ul>\n
LOCATION:605 FM 465\, Marion\, TX 78124
UID:e.595.41810
SEQUENCE:3
DTSTAMP:20260424T090740Z
URL:https://business.thechamber.info/events/details/2026-spring-public-forum-green-valley-sud-41810
END:VEVENT

END:VCALENDAR
